BEGIN:VCALENDAR
VERSION:2.0
PRODID:-//Open Stage Media//Streaming Event//EN
CALSCALE:GREGORIAN
METHOD:PUBLISH
BEGIN:VEVENT
UID:event-224678@openstagemedia.org
DTSTAMP:20260422T085430Z
DTSTART:20260428T080000
DTEND:20260428T090000
SUMMARY:Democracy Now!
URL:https://openstagemedia.org/event/democracy-now-387/
END:VEVENT
END:VCALENDAR
