BEGIN:VCALENDAR
VERSION:2.0
PRODID:-//Open Stage Media//Streaming Event//EN
CALSCALE:GREGORIAN
METHOD:PUBLISH
BEGIN:VEVENT
UID:event-222847@openstagemedia.org
DTSTAMP:20260421T090047Z
DTSTART:20260412T000000
DTEND:20260412T040000
SUMMARY:Classic Arts Showcase
URL:https://openstagemedia.org/event/classic-arts-showcase-596/
END:VEVENT
END:VCALENDAR
