BEGIN:VCALENDAR
VERSION:2.0
PRODID:-//Open Stage Media//Streaming Event//EN
CALSCALE:GREGORIAN
METHOD:PUBLISH
BEGIN:VEVENT
UID:event-222840@openstagemedia.org
DTSTAMP:20260421T090014Z
DTSTART:20260411T170000
DTEND:20260411T180000
SUMMARY:Reel One
URL:https://openstagemedia.org/event/reel-one-173/
END:VEVENT
END:VCALENDAR
