BEGIN:VCALENDAR
VERSION:2.0
PRODID:-//Open Stage Media//Streaming Event//EN
CALSCALE:GREGORIAN
METHOD:PUBLISH
BEGIN:VEVENT
UID:event-222827@openstagemedia.org
DTSTAMP:20260421T084431Z
DTSTART:20260410T200000
DTEND:20260410T210000
SUMMARY:Rock Camp 2025
URL:https://openstagemedia.org/event/rock-camp-2025-8/
END:VEVENT
END:VCALENDAR
