BEGIN:VCALENDAR
VERSION:2.0
PRODID:-//Open Stage Media//Streaming Event//EN
CALSCALE:GREGORIAN
METHOD:PUBLISH
BEGIN:VEVENT
UID:event-222823@openstagemedia.org
DTSTAMP:20260421T084348Z
DTSTART:20260410T143000
DTEND:20260410T150000
SUMMARY:Jaynie Parmenter: A Story in Song
URL:https://openstagemedia.org/event/jaynie-parmenter-a-story-in-song-32/
END:VEVENT
END:VCALENDAR
