BEGIN:VCALENDAR
VERSION:2.0
PRODID:-//Open Stage Media - ECPv6.15.18//NONSGML v1.0//EN
CALSCALE:GREGORIAN
METHOD:PUBLISH
X-ORIGINAL-URL:https://openstagemedia.org
X-WR-CALDESC:Events for Open Stage Media
REFRESH-INTERVAL;VALUE=DURATION:PT1H
X-Robots-Tag:noindex
X-PUBLISHED-TTL:PT1H
BEGIN:VTIMEZONE
TZID:America/New_York
BEGIN:DAYLIGHT
TZOFFSETFROM:-0500
TZOFFSETTO:-0400
TZNAME:EDT
DTSTART:20240310T070000
END:DAYLIGHT
BEGIN:STANDARD
TZOFFSETFROM:-0400
TZOFFSETTO:-0500
TZNAME:EST
DTSTART:20241103T060000
END:STANDARD
BEGIN:DAYLIGHT
TZOFFSETFROM:-0500
TZOFFSETTO:-0400
TZNAME:EDT
DTSTART:20250309T070000
END:DAYLIGHT
BEGIN:STANDARD
TZOFFSETFROM:-0400
TZOFFSETTO:-0500
TZNAME:EST
DTSTART:20251102T060000
END:STANDARD
BEGIN:DAYLIGHT
TZOFFSETFROM:-0500
TZOFFSETTO:-0400
TZNAME:EDT
DTSTART:20260308T070000
END:DAYLIGHT
BEGIN:STANDARD
TZOFFSETFROM:-0400
TZOFFSETTO:-0500
TZNAME:EST
DTSTART:20261101T060000
END:STANDARD
END:VTIMEZONE
BEGIN:VEVENT
DTSTART;TZID=America/New_York:20250430T230000
DTEND;TZID=America/New_York:20250501T030000
DTSTAMP:20260421T203321
CREATED:20250416T203431Z
LAST-MODIFIED:20250417T023945Z
UID:3020-1746054000-1746068400@openstagemedia.org
SUMMARY:Classic Arts Showcase
DESCRIPTION:
URL:https://openstagemedia.org/event/classic-arts-showcase-15/
CATEGORIES:Collaborative Studios Channel
END:VEVENT
BEGIN:VEVENT
DTSTART;TZID=America/New_York:20250430T230000
DTEND;TZID=America/New_York:20250501T030000
DTSTAMP:20260421T203321
CREATED:20250423T132302Z
LAST-MODIFIED:20250429T122623Z
UID:6111-1746054000-1746068400@openstagemedia.org
SUMMARY:Classic Arts Showcase
DESCRIPTION:
URL:https://openstagemedia.org/event/classic-arts-showcase-69/
CATEGORIES:Collaborative Studios Channel
END:VEVENT
BEGIN:VEVENT
DTSTART;TZID=America/New_York:20250430T230000
DTEND;TZID=America/New_York:20250501T050000
DTSTAMP:20260421T203321
CREATED:20250418T161615Z
LAST-MODIFIED:20250421T111956Z
UID:5111-1746054000-1746075600@openstagemedia.org
SUMMARY:Classic Arts Showcase
DESCRIPTION:
URL:https://openstagemedia.org/event/classic-arts-showcase-42/
CATEGORIES:Collaborative Studios Channel
END:VEVENT
BEGIN:VEVENT
DTSTART;TZID=America/New_York:20250501T030000
DTEND;TZID=America/New_York:20250501T070000
DTSTAMP:20260421T203321
CREATED:20250416T203445Z
LAST-MODIFIED:20250429T122623Z
UID:3042-1746068400-1746082800@openstagemedia.org
SUMMARY:Albany Board of Education Meeting
DESCRIPTION:
URL:https://openstagemedia.org/event/albany-board-of-education-meeting-6/
CATEGORIES:Collaborative Studios Channel
END:VEVENT
BEGIN:VEVENT
DTSTART;TZID=America/New_York:20250501T070000
DTEND;TZID=America/New_York:20250501T080000
DTSTAMP:20260421T203321
CREATED:20250416T203445Z
LAST-MODIFIED:20250429T122624Z
UID:3041-1746082800-1746086400@openstagemedia.org
SUMMARY:Rock Camp
DESCRIPTION:
URL:https://openstagemedia.org/event/rock-camp-11/
CATEGORIES:Collaborative Studios Channel
END:VEVENT
BEGIN:VEVENT
DTSTART;TZID=America/New_York:20250501T080000
DTEND;TZID=America/New_York:20250501T090000
DTSTAMP:20260421T203321
CREATED:20250416T203445Z
LAST-MODIFIED:20250429T122624Z
UID:3043-1746086400-1746090000@openstagemedia.org
SUMMARY:Open Stage Toons
DESCRIPTION:
URL:https://openstagemedia.org/event/open-stage-toons-17/
CATEGORIES:Collaborative Studios Channel
END:VEVENT
BEGIN:VEVENT
DTSTART;TZID=America/New_York:20250501T090000
DTEND;TZID=America/New_York:20250501T093000
DTSTAMP:20260421T203321
CREATED:20250416T203446Z
LAST-MODIFIED:20250417T023957Z
UID:3046-1746090000-1746091800@openstagemedia.org
SUMMARY:Super Toons
DESCRIPTION:
URL:https://openstagemedia.org/event/super-toons-20/
CATEGORIES:Collaborative Studios Channel
END:VEVENT
BEGIN:VEVENT
DTSTART;TZID=America/New_York:20250501T090000
DTEND;TZID=America/New_York:20250501T093000
DTSTAMP:20260421T203321
CREATED:20250424T044505Z
LAST-MODIFIED:20250501T131946Z
UID:6712-1746090000-1746091800@openstagemedia.org
SUMMARY:Cartoon Field Trip
DESCRIPTION:
URL:https://openstagemedia.org/event/cartoon-field-trip-33/
CATEGORIES:Collaborative Studios Channel
END:VEVENT
BEGIN:VEVENT
DTSTART;TZID=America/New_York:20250501T093000
DTEND;TZID=America/New_York:20250501T100000
DTSTAMP:20260421T203321
CREATED:20250416T203446Z
LAST-MODIFIED:20250501T131946Z
UID:3044-1746091800-1746093600@openstagemedia.org
SUMMARY:Proctors Theatre Talk
DESCRIPTION:
URL:https://openstagemedia.org/event/proctors-theatre-talk-29/
CATEGORIES:Collaborative Studios Channel
END:VEVENT
BEGIN:VEVENT
DTSTART;TZID=America/New_York:20250501T100000
DTEND;TZID=America/New_York:20250501T110000
DTSTAMP:20260421T203321
CREATED:20250416T203446Z
LAST-MODIFIED:20250501T131946Z
UID:3048-1746093600-1746097200@openstagemedia.org
SUMMARY:Best of Buster Keaton
DESCRIPTION:
URL:https://openstagemedia.org/event/best-of-buster-keaton-3/
CATEGORIES:Collaborative Studios Channel
END:VEVENT
BEGIN:VEVENT
DTSTART;TZID=America/New_York:20250501T110000
DTEND;TZID=America/New_York:20250501T120000
DTSTAMP:20260421T203321
CREATED:20250416T203446Z
LAST-MODIFIED:20250501T131945Z
UID:3050-1746097200-1746100800@openstagemedia.org
SUMMARY:Rochmon Record Club
DESCRIPTION:
URL:https://openstagemedia.org/event/rochmon-record-club-10/
CATEGORIES:Collaborative Studios Channel
END:VEVENT
BEGIN:VEVENT
DTSTART;TZID=America/New_York:20250501T120000
DTEND;TZID=America/New_York:20250501T130000
DTSTAMP:20260421T203321
CREATED:20250416T203447Z
LAST-MODIFIED:20250501T131946Z
UID:3054-1746100800-1746104400@openstagemedia.org
SUMMARY:The Author's Stage
DESCRIPTION:
URL:https://openstagemedia.org/event/the-authors-stage-6/
CATEGORIES:Collaborative Studios Channel
END:VEVENT
BEGIN:VEVENT
DTSTART;TZID=America/New_York:20250501T130000
DTEND;TZID=America/New_York:20250501T140000
DTSTAMP:20260421T203321
CREATED:20250416T203446Z
LAST-MODIFIED:20250501T131946Z
UID:3052-1746104400-1746108000@openstagemedia.org
SUMMARY:Hot Club of Saratoga
DESCRIPTION:
URL:https://openstagemedia.org/event/rock-camp-12/
CATEGORIES:Collaborative Studios Channel
END:VEVENT
BEGIN:VEVENT
DTSTART;TZID=America/New_York:20250501T140000
DTEND;TZID=America/New_York:20250501T150000
DTSTAMP:20260421T203321
CREATED:20250416T203500Z
LAST-MODIFIED:20250501T131946Z
UID:3073-1746108000-1746111600@openstagemedia.org
SUMMARY:The Play That Changed My Life
DESCRIPTION:
URL:https://openstagemedia.org/event/the-play-that-changed-my-life-22/
CATEGORIES:Collaborative Studios Channel
END:VEVENT
BEGIN:VEVENT
DTSTART;TZID=America/New_York:20250501T150000
DTEND;TZID=America/New_York:20250501T170000
DTSTAMP:20260421T203321
CREATED:20250416T203447Z
LAST-MODIFIED:20250501T131946Z
UID:3056-1746111600-1746118800@openstagemedia.org
SUMMARY:Eddies Hall of Fame
DESCRIPTION:
URL:https://openstagemedia.org/event/eddies-hall-of-fame-14/
CATEGORIES:Collaborative Studios Channel
END:VEVENT
BEGIN:VEVENT
DTSTART;TZID=America/New_York:20250501T160000
DTEND;TZID=America/New_York:20250501T170000
DTSTAMP:20260421T203321
CREATED:20250416T203500Z
LAST-MODIFIED:20250429T122639Z
UID:3075-1746115200-1746118800@openstagemedia.org
SUMMARY:Proctors Theatre Talk
DESCRIPTION:
URL:https://openstagemedia.org/event/proctors-theatre-talk-30/
CATEGORIES:Collaborative Studios Channel
END:VEVENT
BEGIN:VEVENT
DTSTART;TZID=America/New_York:20250501T170000
DTEND;TZID=America/New_York:20250501T180000
DTSTAMP:20260421T203321
CREATED:20250416T203500Z
LAST-MODIFIED:20250421T112011Z
UID:3077-1746118800-1746122400@openstagemedia.org
SUMMARY:Capital Region Today
DESCRIPTION:
URL:https://openstagemedia.org/event/capital-region-today-51/
CATEGORIES:Collaborative Studios Channel
END:VEVENT
BEGIN:VEVENT
DTSTART;TZID=America/New_York:20250501T170000
DTEND;TZID=America/New_York:20250501T180000
DTSTAMP:20260421T203321
CREATED:20250423T132316Z
LAST-MODIFIED:20250501T131946Z
UID:6114-1746118800-1746122400@openstagemedia.org
SUMMARY:Capital Region Today
DESCRIPTION:
URL:https://openstagemedia.org/event/capital-region-today-147/
CATEGORIES:Collaborative Studios Channel
END:VEVENT
BEGIN:VEVENT
DTSTART;TZID=America/New_York:20250501T180000
DTEND;TZID=America/New_York:20250501T190000
DTSTAMP:20260421T203321
CREATED:20250416T203501Z
LAST-MODIFIED:20250501T131946Z
UID:3081-1746122400-1746126000@openstagemedia.org
SUMMARY:Here in Schenectady
DESCRIPTION:
URL:https://openstagemedia.org/event/here-in-schenectady-14/
CATEGORIES:Collaborative Studios Channel
END:VEVENT
BEGIN:VEVENT
DTSTART;TZID=America/New_York:20250501T190000
DTEND;TZID=America/New_York:20250501T200000
DTSTAMP:20260421T203321
CREATED:20250416T203500Z
LAST-MODIFIED:20250501T131957Z
UID:3079-1746126000-1746129600@openstagemedia.org
SUMMARY:The Play That Changed My Life
DESCRIPTION:
URL:https://openstagemedia.org/event/the-play-that-changed-my-life-23/
CATEGORIES:Collaborative Studios Channel
END:VEVENT
BEGIN:VEVENT
DTSTART;TZID=America/New_York:20250501T200000
DTEND;TZID=America/New_York:20250501T220000
DTSTAMP:20260421T203321
CREATED:20250501T131958Z
LAST-MODIFIED:20250501T131958Z
UID:7870-1746129600-1746136800@openstagemedia.org
SUMMARY:CSOA: "Fiddler on the Roof"
DESCRIPTION:
URL:https://openstagemedia.org/event/csoa-fiddler-on-the-roof-7/
CATEGORIES:Collaborative Studios Channel
END:VEVENT
BEGIN:VEVENT
DTSTART;TZID=America/New_York:20250501T200000
DTEND;TZID=America/New_York:20250501T223000
DTSTAMP:20260421T203321
CREATED:20250416T203501Z
LAST-MODIFIED:20250429T122639Z
UID:3082-1746129600-1746138600@openstagemedia.org
SUMMARY:CSOA: "Fiddler on the Roof"
DESCRIPTION:
URL:https://openstagemedia.org/event/csoa-fiddler-on-the-roof-2/
CATEGORIES:Collaborative Studios Channel
END:VEVENT
BEGIN:VEVENT
DTSTART;TZID=America/New_York:20250501T200000
DTEND;TZID=America/New_York:20250501T223000
DTSTAMP:20260421T203321
CREATED:20250501T131958Z
LAST-MODIFIED:20250501T131958Z
UID:7874-1746129600-1746138600@openstagemedia.org
SUMMARY:CSOA: "Fiddler on the Roof"
DESCRIPTION:
URL:https://openstagemedia.org/event/csoa-fiddler-on-the-roof-8/
CATEGORIES:Collaborative Studios Channel
END:VEVENT
BEGIN:VEVENT
DTSTART;TZID=America/New_York:20250501T220000
DTEND;TZID=America/New_York:20250501T230000
DTSTAMP:20260421T203321
CREATED:20250416T203501Z
LAST-MODIFIED:20250421T112011Z
UID:3086-1746136800-1746140400@openstagemedia.org
SUMMARY:Scopitones
DESCRIPTION:
URL:https://openstagemedia.org/event/scopitones-22/
CATEGORIES:Collaborative Studios Channel
END:VEVENT
BEGIN:VEVENT
DTSTART;TZID=America/New_York:20250501T223000
DTEND;TZID=America/New_York:20250501T230000
DTSTAMP:20260421T203321
CREATED:20250501T131958Z
LAST-MODIFIED:20250501T131958Z
UID:7872-1746138600-1746140400@openstagemedia.org
SUMMARY:Tulip Fest: Girl Blue
DESCRIPTION:
URL:https://openstagemedia.org/event/tulip-fest-girl-blue-2/
CATEGORIES:Collaborative Studios Channel
END:VEVENT
BEGIN:VEVENT
DTSTART;TZID=America/New_York:20250501T230000
DTEND;TZID=America/New_York:20250502T030000
DTSTAMP:20260421T203321
CREATED:20250416T203501Z
LAST-MODIFIED:20250417T024011Z
UID:3085-1746140400-1746154800@openstagemedia.org
SUMMARY:Classic Arts Showcase
DESCRIPTION:
URL:https://openstagemedia.org/event/classic-arts-showcase-16/
CATEGORIES:Collaborative Studios Channel
END:VEVENT
BEGIN:VEVENT
DTSTART;TZID=America/New_York:20250501T230000
DTEND;TZID=America/New_York:20250502T030000
DTSTAMP:20260421T203321
CREATED:20250423T132329Z
LAST-MODIFIED:20250501T131958Z
UID:6118-1746140400-1746154800@openstagemedia.org
SUMMARY:Classic Arts Showcase
DESCRIPTION:
URL:https://openstagemedia.org/event/classic-arts-showcase-70/
CATEGORIES:Collaborative Studios Channel
END:VEVENT
BEGIN:VEVENT
DTSTART;TZID=America/New_York:20250501T230000
DTEND;TZID=America/New_York:20250502T050000
DTSTAMP:20260421T203321
CREATED:20250418T161630Z
LAST-MODIFIED:20250421T112011Z
UID:5112-1746140400-1746162000@openstagemedia.org
SUMMARY:Classic Arts Showcase
DESCRIPTION:
URL:https://openstagemedia.org/event/classic-arts-showcase-43/
CATEGORIES:Collaborative Studios Channel
END:VEVENT
BEGIN:VEVENT
DTSTART;TZID=America/New_York:20250502T030000
DTEND;TZID=America/New_York:20250502T073000
DTSTAMP:20260421T203321
CREATED:20250416T203502Z
LAST-MODIFIED:20250501T131958Z
UID:3090-1746154800-1746171000@openstagemedia.org
SUMMARY:Schenectady Board of Education
DESCRIPTION:
URL:https://openstagemedia.org/event/schenectady-board-of-education-8/
CATEGORIES:Collaborative Studios Channel
END:VEVENT
BEGIN:VEVENT
DTSTART;TZID=America/New_York:20250502T073000
DTEND;TZID=America/New_York:20250502T080000
DTSTAMP:20260421T203321
CREATED:20250416T203501Z
LAST-MODIFIED:20250501T131959Z
UID:3088-1746171000-1746172800@openstagemedia.org
SUMMARY:Cartoon Field Trip
DESCRIPTION:
URL:https://openstagemedia.org/event/cartoon-field-trip-13/
CATEGORIES:Collaborative Studios Channel
END:VEVENT
END:VCALENDAR