BEGIN:VCALENDAR
VERSION:2.0
PRODID:-//Open Stage Media - ECPv6.15.18//NONSGML v1.0//EN
CALSCALE:GREGORIAN
METHOD:PUBLISH
X-WR-CALNAME:Open Stage Media
X-ORIGINAL-URL:https://openstagemedia.org
X-WR-CALDESC:Events for Open Stage Media
REFRESH-INTERVAL;VALUE=DURATION:PT1H
X-Robots-Tag:noindex
X-PUBLISHED-TTL:PT1H
BEGIN:VTIMEZONE
TZID:America/New_York
BEGIN:DAYLIGHT
TZOFFSETFROM:-0500
TZOFFSETTO:-0400
TZNAME:EDT
DTSTART:20250309T070000
END:DAYLIGHT
BEGIN:STANDARD
TZOFFSETFROM:-0400
TZOFFSETTO:-0500
TZNAME:EST
DTSTART:20251102T060000
END:STANDARD
BEGIN:DAYLIGHT
TZOFFSETFROM:-0500
TZOFFSETTO:-0400
TZNAME:EDT
DTSTART:20260308T070000
END:DAYLIGHT
BEGIN:STANDARD
TZOFFSETFROM:-0400
TZOFFSETTO:-0500
TZNAME:EST
DTSTART:20261101T060000
END:STANDARD
BEGIN:DAYLIGHT
TZOFFSETFROM:-0500
TZOFFSETTO:-0400
TZNAME:EDT
DTSTART:20270314T070000
END:DAYLIGHT
BEGIN:STANDARD
TZOFFSETFROM:-0400
TZOFFSETTO:-0500
TZNAME:EST
DTSTART:20271107T060000
END:STANDARD
END:VTIMEZONE
BEGIN:VEVENT
DTSTART;TZID=America/New_York:20260423T000000
DTEND;TZID=America/New_York:20260423T010000
DTSTAMP:20260423T015737
CREATED:20260407T140647Z
LAST-MODIFIED:20260407T231403Z
UID:224034-1776902400-1776906000@openstagemedia.org
SUMMARY:Democracy Now
DESCRIPTION:
URL:https://openstagemedia.org/event/democracy-now-378/
CATEGORIES:Public Access Channel
END:VEVENT
BEGIN:VEVENT
DTSTART;TZID=America/New_York:20260423T000000
DTEND;TZID=America/New_York:20260423T040000
DTSTAMP:20260423T015737
CREATED:20260407T074517Z
LAST-MODIFIED:20260407T175633Z
UID:222995-1776902400-1776916800@openstagemedia.org
SUMMARY:Classic Arts Showcase
DESCRIPTION:
URL:https://openstagemedia.org/event/classic-arts-showcase-613/
CATEGORIES:Collaborative Studios Channel
END:VEVENT
BEGIN:VEVENT
DTSTART;TZID=America/New_York:20260423T010000
DTEND;TZID=America/New_York:20260423T030000
DTSTAMP:20260423T015737
CREATED:20260407T140645Z
LAST-MODIFIED:20260407T231403Z
UID:224033-1776906000-1776913200@openstagemedia.org
SUMMARY:Free Speech TV
DESCRIPTION:
URL:https://openstagemedia.org/event/free-speech-tv-165/
CATEGORIES:Public Access Channel
END:VEVENT
BEGIN:VEVENT
DTSTART;TZID=America/New_York:20260423T030000
DTEND;TZID=America/New_York:20260423T060000
DTSTAMP:20260423T015737
CREATED:20260407T140648Z
LAST-MODIFIED:20260407T231403Z
UID:224035-1776913200-1776924000@openstagemedia.org
SUMMARY:Blue TV
DESCRIPTION:
URL:https://openstagemedia.org/event/blue-tv-152/
CATEGORIES:Public Access Channel
END:VEVENT
BEGIN:VEVENT
DTSTART;TZID=America/New_York:20260423T040000
DTEND;TZID=America/New_York:20260423T070000
DTSTAMP:20260423T015737
CREATED:20260407T074533Z
LAST-MODIFIED:20260407T175633Z
UID:222998-1776916800-1776927600@openstagemedia.org
SUMMARY:Albany Board of Education
DESCRIPTION:
URL:https://openstagemedia.org/event/albany-board-of-education-6/
CATEGORIES:Collaborative Studios Channel
END:VEVENT
BEGIN:VEVENT
DTSTART;TZID=America/New_York:20260423T060000
DTEND;TZID=America/New_York:20260423T070000
DTSTAMP:20260423T015737
CREATED:20260407T140650Z
LAST-MODIFIED:20260407T231403Z
UID:224037-1776924000-1776927600@openstagemedia.org
SUMMARY:Fr. Frisoni Celebrating Weekly Mass
DESCRIPTION:
URL:https://openstagemedia.org/event/fr-frisoni-celebrating-weekly-mass-75/
CATEGORIES:Public Access Channel
END:VEVENT
BEGIN:VEVENT
DTSTART;TZID=America/New_York:20260423T070000
DTEND;TZID=America/New_York:20260423T080000
DTSTAMP:20260423T015737
CREATED:20260407T074532Z
LAST-MODIFIED:20260407T175633Z
UID:222997-1776927600-1776931200@openstagemedia.org
SUMMARY:2025 Rock Camp
DESCRIPTION:
URL:https://openstagemedia.org/event/2025-rock-camp-57/
CATEGORIES:Collaborative Studios Channel
END:VEVENT
BEGIN:VEVENT
DTSTART;TZID=America/New_York:20260423T070000
DTEND;TZID=America/New_York:20260423T080000
DTSTAMP:20260423T015737
CREATED:20260407T140649Z
LAST-MODIFIED:20260407T231403Z
UID:224036-1776927600-1776931200@openstagemedia.org
SUMMARY:Both Sides of the Bars
DESCRIPTION:
URL:https://openstagemedia.org/event/both-sides-of-the-bars-158/
CATEGORIES:Public Access Channel
END:VEVENT
BEGIN:VEVENT
DTSTART;TZID=America/New_York:20260423T073000
DTEND;TZID=America/New_York:20260423T080000
DTSTAMP:20260423T015737
CREATED:20260407T074534Z
LAST-MODIFIED:20260407T175633Z
UID:222999-1776929400-1776931200@openstagemedia.org
SUMMARY:Jaynie Parmenter: A Story in Song
DESCRIPTION:
URL:https://openstagemedia.org/event/jaynie-parmenter-a-story-in-song-36/
CATEGORIES:Collaborative Studios Channel
END:VEVENT
BEGIN:VEVENT
DTSTART;TZID=America/New_York:20260423T080000
DTEND;TZID=America/New_York:20260423T090000
DTSTAMP:20260423T015737
CREATED:20260407T074531Z
LAST-MODIFIED:20260407T175633Z
UID:222996-1776931200-1776934800@openstagemedia.org
SUMMARY:Cartoon Field Trip
DESCRIPTION:
URL:https://openstagemedia.org/event/cartoon-field-trip-157/
CATEGORIES:Collaborative Studios Channel
END:VEVENT
BEGIN:VEVENT
DTSTART;TZID=America/New_York:20260423T080000
DTEND;TZID=America/New_York:20260423T090000
DTSTAMP:20260423T015737
CREATED:20260407T140653Z
LAST-MODIFIED:20260407T231403Z
UID:224039-1776931200-1776934800@openstagemedia.org
SUMMARY:Democracy Now!
DESCRIPTION:
URL:https://openstagemedia.org/event/democracy-now-379/
CATEGORIES:Public Access Channel
END:VEVENT
BEGIN:VEVENT
DTSTART;TZID=America/New_York:20260423T090000
DTEND;TZID=America/New_York:20260423T093000
DTSTAMP:20260423T015737
CREATED:20260407T074536Z
LAST-MODIFIED:20260407T175633Z
UID:223000-1776934800-1776936600@openstagemedia.org
SUMMARY:Super Toons
DESCRIPTION:
URL:https://openstagemedia.org/event/super-toons-139/
CATEGORIES:Collaborative Studios Channel
END:VEVENT
BEGIN:VEVENT
DTSTART;TZID=America/New_York:20260423T090000
DTEND;TZID=America/New_York:20260423T100000
DTSTAMP:20260423T015737
CREATED:20260407T140652Z
LAST-MODIFIED:20260407T231403Z
UID:224038-1776934800-1776938400@openstagemedia.org
SUMMARY:The H.O.M.E.S Podcast
DESCRIPTION:
URL:https://openstagemedia.org/event/the-h-o-m-e-s-podcast-195/
CATEGORIES:Public Access Channel
END:VEVENT
BEGIN:VEVENT
DTSTART;TZID=America/New_York:20260423T093000
DTEND;TZID=America/New_York:20260423T100000
DTSTAMP:20260423T015737
CREATED:20260407T074537Z
LAST-MODIFIED:20260407T175633Z
UID:223001-1776936600-1776938400@openstagemedia.org
SUMMARY:Proctors Theatre Talk
DESCRIPTION:
URL:https://openstagemedia.org/event/proctors-theatre-talk-453/
CATEGORIES:Collaborative Studios Channel
END:VEVENT
BEGIN:VEVENT
DTSTART;TZID=America/New_York:20260423T100000
DTEND;TZID=America/New_York:20260423T110000
DTSTAMP:20260423T015737
CREATED:20260407T074538Z
LAST-MODIFIED:20260407T175633Z
UID:223002-1776938400-1776942000@openstagemedia.org
SUMMARY:Best of Buster Keaton
DESCRIPTION:
URL:https://openstagemedia.org/event/best-of-buster-keaton-23/
CATEGORIES:Collaborative Studios Channel
END:VEVENT
BEGIN:VEVENT
DTSTART;TZID=America/New_York:20260423T100000
DTEND;TZID=America/New_York:20260423T110000
DTSTAMP:20260423T015737
CREATED:20260407T140654Z
LAST-MODIFIED:20260407T231403Z
UID:224040-1776938400-1776942000@openstagemedia.org
SUMMARY:Capital Region Today
DESCRIPTION:
URL:https://openstagemedia.org/event/capital-region-today-585/
CATEGORIES:Public Access Channel
END:VEVENT
BEGIN:VEVENT
DTSTART;TZID=America/New_York:20260423T110000
DTEND;TZID=America/New_York:20260423T120000
DTSTAMP:20260423T015737
CREATED:20260407T074540Z
LAST-MODIFIED:20260407T175633Z
UID:223004-1776942000-1776945600@openstagemedia.org
SUMMARY:Rochmon Record Club
DESCRIPTION:
URL:https://openstagemedia.org/event/rochmon-record-club-93/
CATEGORIES:Collaborative Studios Channel
END:VEVENT
BEGIN:VEVENT
DTSTART;TZID=America/New_York:20260423T110000
DTEND;TZID=America/New_York:20260423T120000
DTSTAMP:20260423T015737
CREATED:20260407T140656Z
LAST-MODIFIED:20260407T231403Z
UID:224041-1776942000-1776945600@openstagemedia.org
SUMMARY:St. Josephs Catholic Mass
DESCRIPTION:
URL:https://openstagemedia.org/event/st-josephs-catholic-mass-40/
CATEGORIES:Public Access Channel
END:VEVENT
BEGIN:VEVENT
DTSTART;TZID=America/New_York:20260423T120000
DTEND;TZID=America/New_York:20260423T130000
DTSTAMP:20260423T015737
CREATED:20260407T140711Z
LAST-MODIFIED:20260407T231416Z
UID:224043-1776945600-1776949200@openstagemedia.org
SUMMARY:Fr. Frisoni Celebrating Mass
DESCRIPTION:
URL:https://openstagemedia.org/event/fr-frisoni-celebrating-mass-47/
CATEGORIES:Public Access Channel
END:VEVENT
BEGIN:VEVENT
DTSTART;TZID=America/New_York:20260423T120000
DTEND;TZID=America/New_York:20260423T140000
DTSTAMP:20260423T015737
CREATED:20260407T074539Z
LAST-MODIFIED:20260407T175646Z
UID:223003-1776945600-1776952800@openstagemedia.org
SUMMARY:CSOTA: "Urinetown"
DESCRIPTION:
URL:https://openstagemedia.org/event/csota-urinetown-82/
CATEGORIES:Collaborative Studios Channel
END:VEVENT
BEGIN:VEVENT
DTSTART;TZID=America/New_York:20260423T130000
DTEND;TZID=America/New_York:20260423T140000
DTSTAMP:20260423T015737
CREATED:20260407T140710Z
LAST-MODIFIED:20260407T231416Z
UID:224042-1776949200-1776952800@openstagemedia.org
SUMMARY:Art Night Schenectady
DESCRIPTION:
URL:https://openstagemedia.org/event/art-night-schenectady-127/
CATEGORIES:Public Access Channel
END:VEVENT
BEGIN:VEVENT
DTSTART;TZID=America/New_York:20260423T140000
DTEND;TZID=America/New_York:20260423T143000
DTSTAMP:20260423T015737
CREATED:20260407T140714Z
LAST-MODIFIED:20260407T231416Z
UID:224045-1776952800-1776954600@openstagemedia.org
SUMMARY:The Terrible 2 Show
DESCRIPTION:
URL:https://openstagemedia.org/event/the-terrible-2-show-4/
CATEGORIES:Public Access Channel
END:VEVENT
BEGIN:VEVENT
DTSTART;TZID=America/New_York:20260423T140000
DTEND;TZID=America/New_York:20260423T160000
DTSTAMP:20260423T015737
CREATED:20260407T074554Z
LAST-MODIFIED:20260407T175646Z
UID:223006-1776952800-1776960000@openstagemedia.org
SUMMARY:Caroga Arts Celebration
DESCRIPTION:
URL:https://openstagemedia.org/event/caroga-arts-celebration-10/
CATEGORIES:Collaborative Studios Channel
END:VEVENT
BEGIN:VEVENT
DTSTART;TZID=America/New_York:20260423T143000
DTEND;TZID=America/New_York:20260423T150000
DTSTAMP:20260423T015737
CREATED:20260407T140712Z
LAST-MODIFIED:20260407T231416Z
UID:224044-1776954600-1776956400@openstagemedia.org
SUMMARY:The Carla Page Show
DESCRIPTION:
URL:https://openstagemedia.org/event/the-carla-page-show-276/
CATEGORIES:Public Access Channel
END:VEVENT
BEGIN:VEVENT
DTSTART;TZID=America/New_York:20260423T150000
DTEND;TZID=America/New_York:20260423T160000
DTSTAMP:20260423T015737
CREATED:20260407T140716Z
LAST-MODIFIED:20260407T231416Z
UID:224047-1776956400-1776960000@openstagemedia.org
SUMMARY:South End Community Collaborative
DESCRIPTION:
URL:https://openstagemedia.org/event/south-end-community-collaborative-121/
CATEGORIES:Public Access Channel
END:VEVENT
BEGIN:VEVENT
DTSTART;TZID=America/New_York:20260423T160000
DTEND;TZID=America/New_York:20260423T170000
DTSTAMP:20260423T015737
CREATED:20260407T074541Z
LAST-MODIFIED:20260407T175647Z
UID:223005-1776960000-1776963600@openstagemedia.org
SUMMARY:Proctors Theatre Talk
DESCRIPTION:
URL:https://openstagemedia.org/event/proctors-theatre-talk-454/
CATEGORIES:Collaborative Studios Channel
END:VEVENT
BEGIN:VEVENT
DTSTART;TZID=America/New_York:20260423T160000
DTEND;TZID=America/New_York:20260423T170000
DTSTAMP:20260423T015737
CREATED:20260407T140715Z
LAST-MODIFIED:20260407T231416Z
UID:224046-1776960000-1776963600@openstagemedia.org
SUMMARY:Capital Region Today
DESCRIPTION:
URL:https://openstagemedia.org/event/capital-region-today-586/
CATEGORIES:Public Access Channel
END:VEVENT
BEGIN:VEVENT
DTSTART;TZID=America/New_York:20260423T170000
DTEND;TZID=America/New_York:20260423T173000
DTSTAMP:20260423T015737
CREATED:20260407T074555Z
LAST-MODIFIED:20260407T175646Z
UID:223007-1776963600-1776965400@openstagemedia.org
SUMMARY:Here in Schenectady
DESCRIPTION:
URL:https://openstagemedia.org/event/here-in-schenectady-216/
CATEGORIES:Collaborative Studios Channel
END:VEVENT
BEGIN:VEVENT
DTSTART;TZID=America/New_York:20260423T180000
DTEND;TZID=America/New_York:20260423T190000
DTSTAMP:20260423T015737
CREATED:20260407T140719Z
LAST-MODIFIED:20260407T231416Z
UID:224049-1776967200-1776970800@openstagemedia.org
SUMMARY:Democracy Now!
DESCRIPTION:
URL:https://openstagemedia.org/event/democracy-now-380/
CATEGORIES:Public Access Channel
END:VEVENT
BEGIN:VEVENT
DTSTART;TZID=America/New_York:20260423T180000
DTEND;TZID=America/New_York:20260423T200000
DTSTAMP:20260423T015737
CREATED:20260407T074558Z
LAST-MODIFIED:20260407T175647Z
UID:223009-1776967200-1776974400@openstagemedia.org
SUMMARY:Eddies Hall of Fame
DESCRIPTION:
URL:https://openstagemedia.org/event/eddies-hall-of-fame-113/
CATEGORIES:Collaborative Studios Channel
END:VEVENT
END:VCALENDAR