BEGIN:VCALENDAR
VERSION:2.0
PRODID:-//Open Stage Media - ECPv6.15.18//NONSGML v1.0//EN
CALSCALE:GREGORIAN
METHOD:PUBLISH
X-WR-CALNAME:Open Stage Media
X-ORIGINAL-URL:https://openstagemedia.org
X-WR-CALDESC:Events for Open Stage Media
REFRESH-INTERVAL;VALUE=DURATION:PT1H
X-Robots-Tag:noindex
X-PUBLISHED-TTL:PT1H
BEGIN:VTIMEZONE
TZID:America/New_York
BEGIN:DAYLIGHT
TZOFFSETFROM:-0500
TZOFFSETTO:-0400
TZNAME:EDT
DTSTART:20250309T070000
END:DAYLIGHT
BEGIN:STANDARD
TZOFFSETFROM:-0400
TZOFFSETTO:-0500
TZNAME:EST
DTSTART:20251102T060000
END:STANDARD
BEGIN:DAYLIGHT
TZOFFSETFROM:-0500
TZOFFSETTO:-0400
TZNAME:EDT
DTSTART:20260308T070000
END:DAYLIGHT
BEGIN:STANDARD
TZOFFSETFROM:-0400
TZOFFSETTO:-0500
TZNAME:EST
DTSTART:20261101T060000
END:STANDARD
BEGIN:DAYLIGHT
TZOFFSETFROM:-0500
TZOFFSETTO:-0400
TZNAME:EDT
DTSTART:20270314T070000
END:DAYLIGHT
BEGIN:STANDARD
TZOFFSETFROM:-0400
TZOFFSETTO:-0500
TZNAME:EST
DTSTART:20271107T060000
END:STANDARD
END:VTIMEZONE
BEGIN:VEVENT
DTSTART;TZID=America/New_York:20260421T000000
DTEND;TZID=America/New_York:20260421T010000
DTSTAMP:20260421T061411
CREATED:20260407T140442Z
LAST-MODIFIED:20260407T231258Z
UID:223983-1776729600-1776733200@openstagemedia.org
SUMMARY:Democracy Now
DESCRIPTION:
URL:https://openstagemedia.org/event/democracy-now-372/
CATEGORIES:Public Access Channel
END:VEVENT
BEGIN:VEVENT
DTSTART;TZID=America/New_York:20260421T000000
DTEND;TZID=America/New_York:20260421T040000
DTSTAMP:20260421T061411
CREATED:20260407T074422Z
LAST-MODIFIED:20260407T175554Z
UID:222971-1776729600-1776744000@openstagemedia.org
SUMMARY:Classic Arts Showcase
DESCRIPTION:
URL:https://openstagemedia.org/event/classic-arts-showcase-611/
CATEGORIES:Collaborative Studios Channel
END:VEVENT
BEGIN:VEVENT
DTSTART;TZID=America/New_York:20260421T010000
DTEND;TZID=America/New_York:20260421T030000
DTSTAMP:20260421T061411
CREATED:20260407T140446Z
LAST-MODIFIED:20260407T231258Z
UID:223986-1776733200-1776740400@openstagemedia.org
SUMMARY:Free Speech TV
DESCRIPTION:
URL:https://openstagemedia.org/event/free-speech-tv-163/
CATEGORIES:Public Access Channel
END:VEVENT
BEGIN:VEVENT
DTSTART;TZID=America/New_York:20260421T030000
DTEND;TZID=America/New_York:20260421T060000
DTSTAMP:20260421T061411
CREATED:20260407T140445Z
LAST-MODIFIED:20260407T231258Z
UID:223985-1776740400-1776751200@openstagemedia.org
SUMMARY:Blue TV
DESCRIPTION:
URL:https://openstagemedia.org/event/blue-tv-149/
CATEGORIES:Public Access Channel
END:VEVENT
BEGIN:VEVENT
DTSTART;TZID=America/New_York:20260421T040000
DTEND;TZID=America/New_York:20260421T070000
DTSTAMP:20260421T061411
CREATED:20260407T074421Z
LAST-MODIFIED:20260407T175554Z
UID:222970-1776744000-1776754800@openstagemedia.org
SUMMARY:Albany Board of Education
DESCRIPTION:
URL:https://openstagemedia.org/event/albany-board-of-education-5/
CATEGORIES:Collaborative Studios Channel
END:VEVENT
BEGIN:VEVENT
DTSTART;TZID=America/New_York:20260421T060000
DTEND;TZID=America/New_York:20260421T070000
DTSTAMP:20260421T061411
CREATED:20260407T140449Z
LAST-MODIFIED:20260407T231258Z
UID:223988-1776751200-1776754800@openstagemedia.org
SUMMARY:Art Night
DESCRIPTION:
URL:https://openstagemedia.org/event/art-night-2/
CATEGORIES:Public Access Channel
END:VEVENT
BEGIN:VEVENT
DTSTART;TZID=America/New_York:20260421T070000
DTEND;TZID=America/New_York:20260421T080000
DTSTAMP:20260421T061411
CREATED:20260407T140447Z
LAST-MODIFIED:20260407T231258Z
UID:223987-1776754800-1776758400@openstagemedia.org
SUMMARY:Both Sides of the Bars
DESCRIPTION:
URL:https://openstagemedia.org/event/both-sides-of-the-bars-156/
CATEGORIES:Public Access Channel
END:VEVENT
BEGIN:VEVENT
DTSTART;TZID=America/New_York:20260421T080000
DTEND;TZID=America/New_York:20260421T090000
DTSTAMP:20260421T061411
CREATED:20260407T074425Z
LAST-MODIFIED:20260407T175554Z
UID:222973-1776758400-1776762000@openstagemedia.org
SUMMARY:Cartoon Field Trip
DESCRIPTION:
URL:https://openstagemedia.org/event/cartoon-field-trip-156/
CATEGORIES:Collaborative Studios Channel
END:VEVENT
BEGIN:VEVENT
DTSTART;TZID=America/New_York:20260421T080000
DTEND;TZID=America/New_York:20260421T090000
DTSTAMP:20260421T061411
CREATED:20260407T140504Z
LAST-MODIFIED:20260407T231258Z
UID:223990-1776758400-1776762000@openstagemedia.org
SUMMARY:Democracy Now!
DESCRIPTION:
URL:https://openstagemedia.org/event/democracy-now-373/
CATEGORIES:Public Access Channel
END:VEVENT
BEGIN:VEVENT
DTSTART;TZID=America/New_York:20260421T090000
DTEND;TZID=America/New_York:20260421T093000
DTSTAMP:20260421T061411
CREATED:20260407T074424Z
LAST-MODIFIED:20260407T175554Z
UID:222972-1776762000-1776763800@openstagemedia.org
SUMMARY:Super Toons
DESCRIPTION:
URL:https://openstagemedia.org/event/super-toons-137/
CATEGORIES:Collaborative Studios Channel
END:VEVENT
BEGIN:VEVENT
DTSTART;TZID=America/New_York:20260421T090000
DTEND;TZID=America/New_York:20260421T100000
DTSTAMP:20260421T061411
CREATED:20260407T140450Z
LAST-MODIFIED:20260407T231311Z
UID:223989-1776762000-1776765600@openstagemedia.org
SUMMARY:The H.O.M.E.S Podcast
DESCRIPTION:
URL:https://openstagemedia.org/event/the-h-o-m-e-s-podcast-193/
CATEGORIES:Public Access Channel
END:VEVENT
BEGIN:VEVENT
DTSTART;TZID=America/New_York:20260421T093000
DTEND;TZID=America/New_York:20260421T100000
DTSTAMP:20260421T061411
CREATED:20260407T074426Z
LAST-MODIFIED:20260407T175554Z
UID:222974-1776763800-1776765600@openstagemedia.org
SUMMARY:Proctors Theatre Talk
DESCRIPTION:
URL:https://openstagemedia.org/event/proctors-theatre-talk-451/
CATEGORIES:Collaborative Studios Channel
END:VEVENT
BEGIN:VEVENT
DTSTART;TZID=America/New_York:20260421T100000
DTEND;TZID=America/New_York:20260421T110000
DTSTAMP:20260421T061411
CREATED:20260407T074428Z
LAST-MODIFIED:20260407T175554Z
UID:222976-1776765600-1776769200@openstagemedia.org
SUMMARY:Reel One
DESCRIPTION:
URL:https://openstagemedia.org/event/reel-one-189/
CATEGORIES:Collaborative Studios Channel
END:VEVENT
BEGIN:VEVENT
DTSTART;TZID=America/New_York:20260421T100000
DTEND;TZID=America/New_York:20260421T110000
DTSTAMP:20260421T061411
CREATED:20260407T140505Z
LAST-MODIFIED:20260407T231310Z
UID:223991-1776765600-1776769200@openstagemedia.org
SUMMARY:Capital Region Today
DESCRIPTION:
URL:https://openstagemedia.org/event/capital-region-today-580/
CATEGORIES:Public Access Channel
END:VEVENT
BEGIN:VEVENT
DTSTART;TZID=America/New_York:20260421T110000
DTEND;TZID=America/New_York:20260421T120000
DTSTAMP:20260421T061411
CREATED:20260407T074427Z
LAST-MODIFIED:20260407T175554Z
UID:222975-1776769200-1776772800@openstagemedia.org
SUMMARY:Rochmon Record Club
DESCRIPTION:
URL:https://openstagemedia.org/event/rochmon-record-club-92/
CATEGORIES:Collaborative Studios Channel
END:VEVENT
BEGIN:VEVENT
DTSTART;TZID=America/New_York:20260421T110000
DTEND;TZID=America/New_York:20260421T120000
DTSTAMP:20260421T061411
CREATED:20260407T140508Z
LAST-MODIFIED:20260407T231311Z
UID:223993-1776769200-1776772800@openstagemedia.org
SUMMARY:Reach Out Old Testament
DESCRIPTION:
URL:https://openstagemedia.org/event/reach-out-old-testament-97/
CATEGORIES:Public Access Channel
END:VEVENT
BEGIN:VEVENT
DTSTART;TZID=America/New_York:20260421T120000
DTEND;TZID=America/New_York:20260421T130000
DTSTAMP:20260421T061411
CREATED:20260407T140507Z
LAST-MODIFIED:20260407T231311Z
UID:223992-1776772800-1776776400@openstagemedia.org
SUMMARY:Fr. Frisoni Celebrating Mass
DESCRIPTION:
URL:https://openstagemedia.org/event/fr-frisoni-celebrating-mass-46/
CATEGORIES:Public Access Channel
END:VEVENT
BEGIN:VEVENT
DTSTART;TZID=America/New_York:20260421T120000
DTEND;TZID=America/New_York:20260421T140000
DTSTAMP:20260421T061411
CREATED:20260407T074445Z
LAST-MODIFIED:20260407T175608Z
UID:222979-1776772800-1776780000@openstagemedia.org
SUMMARY:CSOTA: "Fiddler on the Roof"
DESCRIPTION:
URL:https://openstagemedia.org/event/csota-fiddler-on-the-roof-52/
CATEGORIES:Collaborative Studios Channel
END:VEVENT
BEGIN:VEVENT
DTSTART;TZID=America/New_York:20260421T130000
DTEND;TZID=America/New_York:20260421T140000
DTSTAMP:20260421T061411
CREATED:20260407T140510Z
LAST-MODIFIED:20260407T231311Z
UID:223995-1776776400-1776780000@openstagemedia.org
SUMMARY:South End Community Collaborative
DESCRIPTION:
URL:https://openstagemedia.org/event/south-end-community-collaborative-120/
CATEGORIES:Public Access Channel
END:VEVENT
BEGIN:VEVENT
DTSTART;TZID=America/New_York:20260421T140000
DTEND;TZID=America/New_York:20260421T150000
DTSTAMP:20260421T061411
CREATED:20260407T140509Z
LAST-MODIFIED:20260407T231311Z
UID:223994-1776780000-1776783600@openstagemedia.org
SUMMARY:St. Joseph Catholic Mass
DESCRIPTION:
URL:https://openstagemedia.org/event/st-joseph-catholic-mass-42/
CATEGORIES:Public Access Channel
END:VEVENT
BEGIN:VEVENT
DTSTART;TZID=America/New_York:20260421T140000
DTEND;TZID=America/New_York:20260421T160000
DTSTAMP:20260421T061411
CREATED:20260407T074431Z
LAST-MODIFIED:20260407T175608Z
UID:222978-1776780000-1776787200@openstagemedia.org
SUMMARY:Caroga Arts Celebration
DESCRIPTION:
URL:https://openstagemedia.org/event/caroga-arts-celebration-9/
CATEGORIES:Collaborative Studios Channel
END:VEVENT
BEGIN:VEVENT
DTSTART;TZID=America/New_York:20260421T150000
DTEND;TZID=America/New_York:20260421T160000
DTSTAMP:20260421T061411
CREATED:20260407T140511Z
LAST-MODIFIED:20260407T231311Z
UID:223996-1776783600-1776787200@openstagemedia.org
SUMMARY:Reach Out with the Lynns
DESCRIPTION:
URL:https://openstagemedia.org/event/reach-out-with-the-lynns-183/
CATEGORIES:Public Access Channel
END:VEVENT
BEGIN:VEVENT
DTSTART;TZID=America/New_York:20260421T160000
DTEND;TZID=America/New_York:20260421T170000
DTSTAMP:20260421T061411
CREATED:20260407T074430Z
LAST-MODIFIED:20260407T175608Z
UID:222977-1776787200-1776790800@openstagemedia.org
SUMMARY:Proctors Theare Talk
DESCRIPTION:
URL:https://openstagemedia.org/event/proctors-theare-talk-4/
CATEGORIES:Collaborative Studios Channel
END:VEVENT
BEGIN:VEVENT
DTSTART;TZID=America/New_York:20260421T160000
DTEND;TZID=America/New_York:20260421T170000
DTSTAMP:20260421T061411
CREATED:20260407T140515Z
LAST-MODIFIED:20260407T231311Z
UID:223999-1776787200-1776790800@openstagemedia.org
SUMMARY:Capital Region Today
DESCRIPTION:
URL:https://openstagemedia.org/event/capital-region-today-582/
CATEGORIES:Public Access Channel
END:VEVENT
BEGIN:VEVENT
DTSTART;TZID=America/New_York:20260421T170000
DTEND;TZID=America/New_York:20260421T173000
DTSTAMP:20260421T061411
CREATED:20260407T074446Z
LAST-MODIFIED:20260407T175608Z
UID:222980-1776790800-1776792600@openstagemedia.org
SUMMARY:Here in Schenectady
DESCRIPTION:
URL:https://openstagemedia.org/event/here-in-schenectady-214/
CATEGORIES:Collaborative Studios Channel
END:VEVENT
BEGIN:VEVENT
DTSTART;TZID=America/New_York:20260421T170000
DTEND;TZID=America/New_York:20260421T180000
DTSTAMP:20260421T061411
CREATED:20260407T140514Z
LAST-MODIFIED:20260407T231311Z
UID:223998-1776790800-1776794400@openstagemedia.org
SUMMARY:Albany Tempo Spectrum
DESCRIPTION:
URL:https://openstagemedia.org/event/albany-tempo-spectrum-342/
CATEGORIES:Public Access Channel
END:VEVENT
BEGIN:VEVENT
DTSTART;TZID=America/New_York:20260421T180000
DTEND;TZID=America/New_York:20260421T190000
DTSTAMP:20260421T061411
CREATED:20260407T140513Z
LAST-MODIFIED:20260407T231311Z
UID:223997-1776794400-1776798000@openstagemedia.org
SUMMARY:Democracy Now!
DESCRIPTION:
URL:https://openstagemedia.org/event/democracy-now-374/
CATEGORIES:Public Access Channel
END:VEVENT
BEGIN:VEVENT
DTSTART;TZID=America/New_York:20260421T180000
DTEND;TZID=America/New_York:20260421T200000
DTSTAMP:20260421T061411
CREATED:20260407T074447Z
LAST-MODIFIED:20260407T175608Z
UID:222981-1776794400-1776801600@openstagemedia.org
SUMMARY:Eddies Hall of Fame
DESCRIPTION:
URL:https://openstagemedia.org/event/eddies-hall-of-fame-111/
CATEGORIES:Collaborative Studios Channel
END:VEVENT
BEGIN:VEVENT
DTSTART;TZID=America/New_York:20260421T190000
DTEND;TZID=America/New_York:20260421T193000
DTSTAMP:20260421T061411
CREATED:20260407T140532Z
LAST-MODIFIED:20260407T231324Z
UID:224002-1776798000-1776799800@openstagemedia.org
SUMMARY:Words Make People
DESCRIPTION:
URL:https://openstagemedia.org/event/words-make-people-106/
CATEGORIES:Public Access Channel
END:VEVENT
BEGIN:VEVENT
DTSTART;TZID=America/New_York:20260421T193000
DTEND;TZID=America/New_York:20260421T200000
DTSTAMP:20260421T061411
CREATED:20260407T140531Z
LAST-MODIFIED:20260407T231324Z
UID:224001-1776799800-1776801600@openstagemedia.org
SUMMARY:Words Make People
DESCRIPTION:
URL:https://openstagemedia.org/event/words-make-people-105/
CATEGORIES:Public Access Channel
END:VEVENT
END:VCALENDAR